BEGIN:VCALENDAR
VERSION:2.0
PRODID:-//YMCA of Greater San Francisco - ECPv6.6.4.2//NONSGML v1.0//EN
CALSCALE:GREGORIAN
METHOD:PUBLISH
X-WR-CALNAME:YMCA of Greater San Francisco
X-ORIGINAL-URL:https://www.ymcasf.org
X-WR-CALDESC:Events for YMCA of Greater San Francisco
REFRESH-INTERVAL;VALUE=DURATION:PT1H
X-Robots-Tag:noindex
X-PUBLISHED-TTL:PT1H
BEGIN:VTIMEZONE
TZID:America/New_York
BEGIN:DAYLIGHT
TZOFFSETFROM:-0500
TZOFFSETTO:-0400
TZNAME:EDT
DTSTART:20260308T070000
END:DAYLIGHT
BEGIN:STANDARD
TZOFFSETFROM:-0400
TZOFFSETTO:-0500
TZNAME:EST
DTSTART:20261101T060000
END:STANDARD
END:VTIMEZONE
BEGIN:VEVENT
DTSTART;TZID=America/New_York:20260425T090000
DTEND;TZID=America/New_York:20260425T093000
DTSTAMP:20260423T084315
CREATED:20260405T170408Z
LAST-MODIFIED:20260405T170409Z
UID:10376757-1777107600-1777109400@www.ymcasf.org
SUMMARY:Baby and Me - Water Discovery - SAT 9:00 - Mar-Apr 2026
DESCRIPTION:
URL:https://www.ymcasf.org/event/baby-and-me-water-discovery-sat-900-mar-apr-2026/2026-04-25/
LOCATION:Presidio Community YMCA Letterman Aquatics Center\, 1151 Gorgas Avenue\, San Francisco\, CA\, 94129\, United States
CATEGORIES:Class
GEO:37.8010625;-122.4485374
X-APPLE-STRUCTURED-LOCATION;VALUE=URI;X-ADDRESS=Presidio Community YMCA Letterman Aquatics Center 1151 Gorgas Avenue San Francisco CA 94129 United States;X-APPLE-RADIUS=500;X-TITLE=1151 Gorgas Avenue:geo:-122.4485374,37.8010625
END:VEVENT
BEGIN:VEVENT
DTSTART;TZID=America/New_York:20260425T090000
DTEND;TZID=America/New_York:20260425T093000
DTSTAMP:20260423T084315
CREATED:20260405T170411Z
LAST-MODIFIED:20260405T170411Z
UID:10376766-1777107600-1777109400@www.ymcasf.org
SUMMARY:P Stage 1 - Water Acclimation - SAT 9:00 - Mar-Apr 2026
DESCRIPTION:
URL:https://www.ymcasf.org/event/p-stage-1-water-acclimation-sat-900-mar-apr-2026/2026-04-25/
LOCATION:Presidio Community YMCA Letterman Aquatics Center\, 1151 Gorgas Avenue\, San Francisco\, CA\, 94129\, United States
CATEGORIES:Class
GEO:37.8010625;-122.4485374
X-APPLE-STRUCTURED-LOCATION;VALUE=URI;X-ADDRESS=Presidio Community YMCA Letterman Aquatics Center 1151 Gorgas Avenue San Francisco CA 94129 United States;X-APPLE-RADIUS=500;X-TITLE=1151 Gorgas Avenue:geo:-122.4485374,37.8010625
END:VEVENT
BEGIN:VEVENT
DTSTART;TZID=America/New_York:20260425T090000
DTEND;TZID=America/New_York:20260425T093000
DTSTAMP:20260423T084315
CREATED:20260405T170415Z
LAST-MODIFIED:20260412T162411Z
UID:10376784-1777107600-1777109400@www.ymcasf.org
SUMMARY:P Stage 2 - Water Movement - SAT 9:00 - Mar-Apr 2026
DESCRIPTION:
URL:https://www.ymcasf.org/event/p-stage-2-water-movement-sat-900-mar-apr-2026/2026-04-25/
LOCATION:Presidio Community YMCA Letterman Aquatics Center\, 1151 Gorgas Avenue\, San Francisco\, CA\, 94129\, United States
CATEGORIES:Class
GEO:37.8010625;-122.4485374
X-APPLE-STRUCTURED-LOCATION;VALUE=URI;X-ADDRESS=Presidio Community YMCA Letterman Aquatics Center 1151 Gorgas Avenue San Francisco CA 94129 United States;X-APPLE-RADIUS=500;X-TITLE=1151 Gorgas Avenue:geo:-122.4485374,37.8010625
END:VEVENT
BEGIN:VEVENT
DTSTART;TZID=America/New_York:20260425T090000
DTEND;TZID=America/New_York:20260425T093000
DTSTAMP:20260423T084315
CREATED:20260405T170648Z
LAST-MODIFIED:20260405T170648Z
UID:10377309-1777107600-1777109400@www.ymcasf.org
SUMMARY:P Stage 1 - Water Acclimation - SAT 9:00 - Mar-May 2026
DESCRIPTION:
URL:https://www.ymcasf.org/event/p-stage-1-water-acclimation-sat-900-mar-may-2026/2026-04-25/
LOCATION:Peninsula Family YMCA\, 1877 South Grant Street\, San Mateo\, CA\, 94402\, United States
CATEGORIES:Class
GEO:37.5530246;-122.3015842
X-APPLE-STRUCTURED-LOCATION;VALUE=URI;X-ADDRESS=Peninsula Family YMCA 1877 South Grant Street San Mateo CA 94402 United States;X-APPLE-RADIUS=500;X-TITLE=1877 South Grant Street:geo:-122.3015842,37.5530246
END:VEVENT
BEGIN:VEVENT
DTSTART;TZID=America/New_York:20260425T090000
DTEND;TZID=America/New_York:20260425T093000
DTSTAMP:20260423T084315
CREATED:20260405T170654Z
LAST-MODIFIED:20260405T170655Z
UID:10377336-1777107600-1777109400@www.ymcasf.org
SUMMARY:P Stage 2 - Water Movement - SAT 9:00 - Mar-May 2026
DESCRIPTION:
URL:https://www.ymcasf.org/event/p-stage-2-water-movement-sat-900-mar-may-2026/2026-04-25/
LOCATION:Peninsula Family YMCA\, 1877 South Grant Street\, San Mateo\, CA\, 94402\, United States
CATEGORIES:Class
GEO:37.5530246;-122.3015842
X-APPLE-STRUCTURED-LOCATION;VALUE=URI;X-ADDRESS=Peninsula Family YMCA 1877 South Grant Street San Mateo CA 94402 United States;X-APPLE-RADIUS=500;X-TITLE=1877 South Grant Street:geo:-122.3015842,37.5530246
END:VEVENT
BEGIN:VEVENT
DTSTART;TZID=America/New_York:20260425T090000
DTEND;TZID=America/New_York:20260425T093000
DTSTAMP:20260423T084315
CREATED:20260405T170709Z
LAST-MODIFIED:20260405T170710Z
UID:10377372-1777107600-1777109400@www.ymcasf.org
SUMMARY:Y Stage 4 - Stroke Introduction - SAT 9:00 - Mar-May 2026
DESCRIPTION:
URL:https://www.ymcasf.org/event/y-stage-4-stroke-introduction-sat-900-mar-may-2026/2026-04-25/
LOCATION:Peninsula Family YMCA\, 1877 South Grant Street\, San Mateo\, CA\, 94402\, United States
CATEGORIES:Class
GEO:37.5530246;-122.3015842
X-APPLE-STRUCTURED-LOCATION;VALUE=URI;X-ADDRESS=Peninsula Family YMCA 1877 South Grant Street San Mateo CA 94402 United States;X-APPLE-RADIUS=500;X-TITLE=1877 South Grant Street:geo:-122.3015842,37.5530246
END:VEVENT
BEGIN:VEVENT
DTSTART;TZID=America/New_York:20260425T093500
DTEND;TZID=America/New_York:20260425T100500
DTSTAMP:20260423T084315
CREATED:20260405T170413Z
LAST-MODIFIED:20260405T170413Z
UID:10376775-1777109700-1777111500@www.ymcasf.org
SUMMARY:P Stage 1 - Water Acclimation - SAT 9:35 - Mar-Apr 2026
DESCRIPTION:
URL:https://www.ymcasf.org/event/p-stage-1-water-acclimation-sat-935-mar-apr-2026/2026-04-25/
LOCATION:Presidio Community YMCA Letterman Aquatics Center\, 1151 Gorgas Avenue\, San Francisco\, CA\, 94129\, United States
CATEGORIES:Class
GEO:37.8010625;-122.4485374
X-APPLE-STRUCTURED-LOCATION;VALUE=URI;X-ADDRESS=Presidio Community YMCA Letterman Aquatics Center 1151 Gorgas Avenue San Francisco CA 94129 United States;X-APPLE-RADIUS=500;X-TITLE=1151 Gorgas Avenue:geo:-122.4485374,37.8010625
END:VEVENT
BEGIN:VEVENT
DTSTART;TZID=America/New_York:20260425T093500
DTEND;TZID=America/New_York:20260425T100500
DTSTAMP:20260423T084315
CREATED:20260405T170417Z
LAST-MODIFIED:20260405T170418Z
UID:10376793-1777109700-1777111500@www.ymcasf.org
SUMMARY:P Stage 2 - Water Movement - SAT 9:35 - Mar-Apr 2026
DESCRIPTION:
URL:https://www.ymcasf.org/event/p-stage-2-water-movement-sat-935-mar-apr-2026/2026-04-25/
LOCATION:Presidio Community YMCA Letterman Aquatics Center\, 1151 Gorgas Avenue\, San Francisco\, CA\, 94129\, United States
CATEGORIES:Class
GEO:37.8010625;-122.4485374
X-APPLE-STRUCTURED-LOCATION;VALUE=URI;X-ADDRESS=Presidio Community YMCA Letterman Aquatics Center 1151 Gorgas Avenue San Francisco CA 94129 United States;X-APPLE-RADIUS=500;X-TITLE=1151 Gorgas Avenue:geo:-122.4485374,37.8010625
END:VEVENT
BEGIN:VEVENT
DTSTART;TZID=America/New_York:20260425T093500
DTEND;TZID=America/New_York:20260425T100500
DTSTAMP:20260423T084315
CREATED:20260405T170419Z
LAST-MODIFIED:20260405T170420Z
UID:10376802-1777109700-1777111500@www.ymcasf.org
SUMMARY:Toddler and Me - Water Exploration - SAT 9:35 - Mar-Apr 2026
DESCRIPTION:
URL:https://www.ymcasf.org/event/toddler-and-me-water-exploration-sat-935-mar-apr-2026/2026-04-25/
LOCATION:Presidio Community YMCA Letterman Aquatics Center\, 1151 Gorgas Avenue\, San Francisco\, CA\, 94129\, United States
CATEGORIES:Class
GEO:37.8010625;-122.4485374
X-APPLE-STRUCTURED-LOCATION;VALUE=URI;X-ADDRESS=Presidio Community YMCA Letterman Aquatics Center 1151 Gorgas Avenue San Francisco CA 94129 United States;X-APPLE-RADIUS=500;X-TITLE=1151 Gorgas Avenue:geo:-122.4485374,37.8010625
END:VEVENT
BEGIN:VEVENT
DTSTART;TZID=America/New_York:20260425T093500
DTEND;TZID=America/New_York:20260425T100500
DTSTAMP:20260423T084315
CREATED:20260405T170650Z
LAST-MODIFIED:20260405T170651Z
UID:10377318-1777109700-1777111500@www.ymcasf.org
SUMMARY:P Stage 1 - Water Acclimation - SAT 9:35 - Mar-May 2026
DESCRIPTION:
URL:https://www.ymcasf.org/event/p-stage-1-water-acclimation-sat-935-mar-may-2026/2026-04-25/
LOCATION:Peninsula Family YMCA\, 1877 South Grant Street\, San Mateo\, CA\, 94402\, United States
CATEGORIES:Class
GEO:37.5530246;-122.3015842
X-APPLE-STRUCTURED-LOCATION;VALUE=URI;X-ADDRESS=Peninsula Family YMCA 1877 South Grant Street San Mateo CA 94402 United States;X-APPLE-RADIUS=500;X-TITLE=1877 South Grant Street:geo:-122.3015842,37.5530246
END:VEVENT
BEGIN:VEVENT
DTSTART;TZID=America/New_York:20260425T093500
DTEND;TZID=America/New_York:20260425T100500
DTSTAMP:20260423T084315
CREATED:20260405T170711Z
LAST-MODIFIED:20260405T170713Z
UID:10377381-1777109700-1777111500@www.ymcasf.org
SUMMARY:Y Stage 4 - Stroke Introduction - SAT 9:35 - Mar-May 2026
DESCRIPTION:
URL:https://www.ymcasf.org/event/y-stage-4-stroke-introduction-sat-935-mar-may-2026/2026-04-25/
LOCATION:Peninsula Family YMCA\, 1877 South Grant Street\, San Mateo\, CA\, 94402\, United States
CATEGORIES:Class
GEO:37.5530246;-122.3015842
X-APPLE-STRUCTURED-LOCATION;VALUE=URI;X-ADDRESS=Peninsula Family YMCA 1877 South Grant Street San Mateo CA 94402 United States;X-APPLE-RADIUS=500;X-TITLE=1877 South Grant Street:geo:-122.3015842,37.5530246
END:VEVENT
BEGIN:VEVENT
DTSTART;TZID=America/New_York:20260425T093500
DTEND;TZID=America/New_York:20260425T100500
DTSTAMP:20260423T084315
CREATED:20260405T170716Z
LAST-MODIFIED:20260405T170717Z
UID:10377399-1777109700-1777111500@www.ymcasf.org
SUMMARY:P Stage 3 - Water Stamina - SAT 9:35 - Mar-Apr 2026
DESCRIPTION:
URL:https://www.ymcasf.org/event/p-stage-3-water-stamina-sat-935-mar-apr-2026/2026-04-25/
LOCATION:Peninsula Family YMCA\, 1877 South Grant Street\, San Mateo\, CA\, 94402\, United States
CATEGORIES:Class
GEO:37.5530246;-122.3015842
X-APPLE-STRUCTURED-LOCATION;VALUE=URI;X-ADDRESS=Peninsula Family YMCA 1877 South Grant Street San Mateo CA 94402 United States;X-APPLE-RADIUS=500;X-TITLE=1877 South Grant Street:geo:-122.3015842,37.5530246
END:VEVENT
BEGIN:VEVENT
DTSTART;TZID=America/New_York:20260425T093500
DTEND;TZID=America/New_York:20260425T100500
DTSTAMP:20260423T084315
CREATED:20260405T170718Z
LAST-MODIFIED:20260405T170719Z
UID:10377408-1777109700-1777111500@www.ymcasf.org
SUMMARY:Y Stage 5 - Stroke Development - SAT 9:35 - Mar-May 2026
DESCRIPTION:
URL:https://www.ymcasf.org/event/y-stage-5-stroke-development-sat-935-mar-may-2026/2026-04-25/
LOCATION:Peninsula Family YMCA\, 1877 South Grant Street\, San Mateo\, CA\, 94402\, United States
CATEGORIES:Class
GEO:37.5530246;-122.3015842
X-APPLE-STRUCTURED-LOCATION;VALUE=URI;X-ADDRESS=Peninsula Family YMCA 1877 South Grant Street San Mateo CA 94402 United States;X-APPLE-RADIUS=500;X-TITLE=1877 South Grant Street:geo:-122.3015842,37.5530246
END:VEVENT
BEGIN:VEVENT
DTSTART;TZID=America/New_York:20260425T100000
DTEND;TZID=America/New_York:20260425T103000
DTSTAMP:20260423T084315
CREATED:20260405T170032Z
LAST-MODIFIED:20260405T170033Z
UID:10376292-1777111200-1777113000@www.ymcasf.org
SUMMARY:Parent-Child A - Water Discovery - SAT 10:00 - Mar-Apr 2026
DESCRIPTION:
URL:https://www.ymcasf.org/event/parent-child-a-water-discovery-sat-1000-mar-apr-2026/2026-04-25/
LOCATION:Marin YMCA\, 1500 Los Gamos Drive\, San Rafael\, CA\, 94903\, United States
CATEGORIES:Class
GEO:38.0159872;-122.5421821
X-APPLE-STRUCTURED-LOCATION;VALUE=URI;X-ADDRESS=Marin YMCA 1500 Los Gamos Drive San Rafael CA 94903 United States;X-APPLE-RADIUS=500;X-TITLE=1500 Los Gamos Drive:geo:-122.5421821,38.0159872
END:VEVENT
BEGIN:VEVENT
DTSTART;TZID=America/New_York:20260425T100000
DTEND;TZID=America/New_York:20260425T103000
DTSTAMP:20260423T084315
CREATED:20260405T170034Z
LAST-MODIFIED:20260405T170035Z
UID:10376300-1777111200-1777113000@www.ymcasf.org
SUMMARY:P Stage 1 - Water Acclimation - SAT 10:00 - Mar-Apr 2026
DESCRIPTION:
URL:https://www.ymcasf.org/event/p-stage-1-water-acclimation-sat-1000-mar-apr-2026/2026-04-25/
LOCATION:Marin YMCA\, 1500 Los Gamos Drive\, San Rafael\, CA\, 94903\, United States
CATEGORIES:Class
GEO:38.0159872;-122.5421821
X-APPLE-STRUCTURED-LOCATION;VALUE=URI;X-ADDRESS=Marin YMCA 1500 Los Gamos Drive San Rafael CA 94903 United States;X-APPLE-RADIUS=500;X-TITLE=1500 Los Gamos Drive:geo:-122.5421821,38.0159872
END:VEVENT
BEGIN:VEVENT
DTSTART;TZID=America/New_York:20260425T100000
DTEND;TZID=America/New_York:20260425T103000
DTSTAMP:20260423T084315
CREATED:20260405T170040Z
LAST-MODIFIED:20260405T170042Z
UID:10376316-1777111200-1777113000@www.ymcasf.org
SUMMARY:P Stage 2 - Water Movement - SAT 10:00 - Mar-Apr 2026
DESCRIPTION:
URL:https://www.ymcasf.org/event/p-stage-2-water-movement-sat-1000-mar-apr-2026/2026-04-25/
LOCATION:Marin YMCA\, 1500 Los Gamos Drive\, San Rafael\, CA\, 94903\, United States
CATEGORIES:Class
GEO:38.0159872;-122.5421821
X-APPLE-STRUCTURED-LOCATION;VALUE=URI;X-ADDRESS=Marin YMCA 1500 Los Gamos Drive San Rafael CA 94903 United States;X-APPLE-RADIUS=500;X-TITLE=1500 Los Gamos Drive:geo:-122.5421821,38.0159872
END:VEVENT
BEGIN:VEVENT
DTSTART;TZID=America/New_York:20260425T100000
DTEND;TZID=America/New_York:20260425T103000
DTSTAMP:20260423T084315
CREATED:20260405T170048Z
LAST-MODIFIED:20260405T170050Z
UID:10376332-1777111200-1777113000@www.ymcasf.org
SUMMARY:Y Stage 2 - Water Movement - SAT 10:00 - Mar-Apr 2026
DESCRIPTION:
URL:https://www.ymcasf.org/event/y-stage-2-water-movement-sat-1000-mar-apr-2026/2026-04-25/
LOCATION:Marin YMCA\, 1500 Los Gamos Drive\, San Rafael\, CA\, 94903\, United States
CATEGORIES:Class
GEO:38.0159872;-122.5421821
X-APPLE-STRUCTURED-LOCATION;VALUE=URI;X-ADDRESS=Marin YMCA 1500 Los Gamos Drive San Rafael CA 94903 United States;X-APPLE-RADIUS=500;X-TITLE=1500 Los Gamos Drive:geo:-122.5421821,38.0159872
END:VEVENT
BEGIN:VEVENT
DTSTART;TZID=America/New_York:20260425T101000
DTEND;TZID=America/New_York:20260425T104000
DTSTAMP:20260423T084315
CREATED:20260405T170421Z
LAST-MODIFIED:20260405T170422Z
UID:10376811-1777111800-1777113600@www.ymcasf.org
SUMMARY:Teen Beginner-Intermediate - SAT 10:10 - Mar-Apr 2026
DESCRIPTION:
URL:https://www.ymcasf.org/event/teen-beginner-intermediate-sat-1010-mar-apr-2026/2026-04-25/
LOCATION:Presidio Community YMCA Letterman Aquatics Center\, 1151 Gorgas Avenue\, San Francisco\, CA\, 94129\, United States
CATEGORIES:Class
GEO:37.8010625;-122.4485374
X-APPLE-STRUCTURED-LOCATION;VALUE=URI;X-ADDRESS=Presidio Community YMCA Letterman Aquatics Center 1151 Gorgas Avenue San Francisco CA 94129 United States;X-APPLE-RADIUS=500;X-TITLE=1151 Gorgas Avenue:geo:-122.4485374,37.8010625
END:VEVENT
BEGIN:VEVENT
DTSTART;TZID=America/New_York:20260425T101000
DTEND;TZID=America/New_York:20260425T104000
DTSTAMP:20260423T084315
CREATED:20260405T170423Z
LAST-MODIFIED:20260405T170424Z
UID:10376820-1777111800-1777113600@www.ymcasf.org
SUMMARY:Y Stage 1 - Water Acclimation - SAT 10:10 - Mar-Apr 2026
DESCRIPTION:
URL:https://www.ymcasf.org/event/y-stage-1-water-acclimation-sat-1010-mar-apr-2026/2026-04-25/
LOCATION:Presidio Community YMCA Letterman Aquatics Center\, 1151 Gorgas Avenue\, San Francisco\, CA\, 94129\, United States
CATEGORIES:Class
GEO:37.8010625;-122.4485374
X-APPLE-STRUCTURED-LOCATION;VALUE=URI;X-ADDRESS=Presidio Community YMCA Letterman Aquatics Center 1151 Gorgas Avenue San Francisco CA 94129 United States;X-APPLE-RADIUS=500;X-TITLE=1151 Gorgas Avenue:geo:-122.4485374,37.8010625
END:VEVENT
BEGIN:VEVENT
DTSTART;TZID=America/New_York:20260425T101000
DTEND;TZID=America/New_York:20260425T104000
DTSTAMP:20260423T084315
CREATED:20260405T170426Z
LAST-MODIFIED:20260405T170426Z
UID:10376829-1777111800-1777113600@www.ymcasf.org
SUMMARY:Y Stage 2 - Water Movement - SAT 10:10 - Mar-Apr 2026
DESCRIPTION:
URL:https://www.ymcasf.org/event/y-stage-2-water-movement-sat-1010-mar-apr-2026/2026-04-25/
LOCATION:Presidio Community YMCA Letterman Aquatics Center\, 1151 Gorgas Avenue\, San Francisco\, CA\, 94129\, United States
CATEGORIES:Class
GEO:37.8010625;-122.4485374
X-APPLE-STRUCTURED-LOCATION;VALUE=URI;X-ADDRESS=Presidio Community YMCA Letterman Aquatics Center 1151 Gorgas Avenue San Francisco CA 94129 United States;X-APPLE-RADIUS=500;X-TITLE=1151 Gorgas Avenue:geo:-122.4485374,37.8010625
END:VEVENT
BEGIN:VEVENT
DTSTART;TZID=America/New_York:20260425T101000
DTEND;TZID=America/New_York:20260425T104000
DTSTAMP:20260423T084315
CREATED:20260405T170703Z
LAST-MODIFIED:20260405T170704Z
UID:10377345-1777111800-1777113600@www.ymcasf.org
SUMMARY:P Stage 2 - Water Movement - SAT 10:10 - Mar-May 2026
DESCRIPTION:
URL:https://www.ymcasf.org/event/p-stage-2-water-movement-sat-1010-mar-may-2026/2026-04-25/
LOCATION:Peninsula Family YMCA\, 1877 South Grant Street\, San Mateo\, CA\, 94402\, United States
CATEGORIES:Class
GEO:37.5530246;-122.3015842
X-APPLE-STRUCTURED-LOCATION;VALUE=URI;X-ADDRESS=Peninsula Family YMCA 1877 South Grant Street San Mateo CA 94402 United States;X-APPLE-RADIUS=500;X-TITLE=1877 South Grant Street:geo:-122.3015842,37.5530246
END:VEVENT
BEGIN:VEVENT
DTSTART;TZID=America/New_York:20260425T101000
DTEND;TZID=America/New_York:20260425T104000
DTSTAMP:20260423T084315
CREATED:20260405T170714Z
LAST-MODIFIED:20260405T170715Z
UID:10377390-1777111800-1777113600@www.ymcasf.org
SUMMARY:Y Stage 4 - Stroke Introduction - SAT 10:10 - Mar-May 2026
DESCRIPTION:
URL:https://www.ymcasf.org/event/y-stage-4-stroke-introduction-sat-1010-mar-may-2026/2026-04-25/
LOCATION:Peninsula Family YMCA\, 1877 South Grant Street\, San Mateo\, CA\, 94402\, United States
CATEGORIES:Class
GEO:37.5530246;-122.3015842
X-APPLE-STRUCTURED-LOCATION;VALUE=URI;X-ADDRESS=Peninsula Family YMCA 1877 South Grant Street San Mateo CA 94402 United States;X-APPLE-RADIUS=500;X-TITLE=1877 South Grant Street:geo:-122.3015842,37.5530246
END:VEVENT
BEGIN:VEVENT
DTSTART;TZID=America/New_York:20260425T101000
DTEND;TZID=America/New_York:20260425T104000
DTSTAMP:20260423T084315
CREATED:20260405T170721Z
LAST-MODIFIED:20260405T170721Z
UID:10377417-1777111800-1777113600@www.ymcasf.org
SUMMARY:Parent-Child A - Water Discovery - SAT 10:10 - Mar-May 2026
DESCRIPTION:
URL:https://www.ymcasf.org/event/parent-child-a-water-discovery-sat-1010-mar-may-2026/2026-04-25/
LOCATION:Peninsula Family YMCA\, 1877 South Grant Street\, San Mateo\, CA\, 94402\, United States
CATEGORIES:Class
GEO:37.5530246;-122.3015842
X-APPLE-STRUCTURED-LOCATION;VALUE=URI;X-ADDRESS=Peninsula Family YMCA 1877 South Grant Street San Mateo CA 94402 United States;X-APPLE-RADIUS=500;X-TITLE=1877 South Grant Street:geo:-122.3015842,37.5530246
END:VEVENT
BEGIN:VEVENT
DTSTART;TZID=America/New_York:20260425T103500
DTEND;TZID=America/New_York:20260425T110500
DTSTAMP:20260423T084315
CREATED:20260405T170037Z
LAST-MODIFIED:20260405T170038Z
UID:10376308-1777113300-1777115100@www.ymcasf.org
SUMMARY:P Stage 1 - Water Acclimation - SAT 10:35 - Mar-Apr 2026
DESCRIPTION:
URL:https://www.ymcasf.org/event/p-stage-1-water-acclimation-sat-1035-mar-apr-2026/2026-04-25/
LOCATION:Marin YMCA\, 1500 Los Gamos Drive\, San Rafael\, CA\, 94903\, United States
CATEGORIES:Class
GEO:38.0159872;-122.5421821
X-APPLE-STRUCTURED-LOCATION;VALUE=URI;X-ADDRESS=Marin YMCA 1500 Los Gamos Drive San Rafael CA 94903 United States;X-APPLE-RADIUS=500;X-TITLE=1500 Los Gamos Drive:geo:-122.5421821,38.0159872
END:VEVENT
BEGIN:VEVENT
DTSTART;TZID=America/New_York:20260425T103500
DTEND;TZID=America/New_York:20260425T110500
DTSTAMP:20260423T084315
CREATED:20260405T170044Z
LAST-MODIFIED:20260405T170046Z
UID:10376324-1777113300-1777115100@www.ymcasf.org
SUMMARY:P Stage 2 - Water Movement - SAT 10:35 - Mar-Apr 2026
DESCRIPTION:
URL:https://www.ymcasf.org/event/p-stage-2-water-movement-sat-1035-mar-apr-2026/2026-04-25/
LOCATION:Marin YMCA\, 1500 Los Gamos Drive\, San Rafael\, CA\, 94903\, United States
CATEGORIES:Class
GEO:38.0159872;-122.5421821
X-APPLE-STRUCTURED-LOCATION;VALUE=URI;X-ADDRESS=Marin YMCA 1500 Los Gamos Drive San Rafael CA 94903 United States;X-APPLE-RADIUS=500;X-TITLE=1500 Los Gamos Drive:geo:-122.5421821,38.0159872
END:VEVENT
BEGIN:VEVENT
DTSTART;TZID=America/New_York:20260425T103500
DTEND;TZID=America/New_York:20260425T110500
DTSTAMP:20260423T084315
CREATED:20260405T170055Z
LAST-MODIFIED:20260405T170057Z
UID:10376348-1777113300-1777115100@www.ymcasf.org
SUMMARY:Y Stage 4 - Stroke Introduction - SAT 10:35 - Mar-Apr 2026
DESCRIPTION:
URL:https://www.ymcasf.org/event/y-stage-4-stroke-introduction-sat-1035-mar-apr-2026/2026-04-25/
LOCATION:Marin YMCA\, 1500 Los Gamos Drive\, San Rafael\, CA\, 94903\, United States
CATEGORIES:Class
GEO:38.0159872;-122.5421821
X-APPLE-STRUCTURED-LOCATION;VALUE=URI;X-ADDRESS=Marin YMCA 1500 Los Gamos Drive San Rafael CA 94903 United States;X-APPLE-RADIUS=500;X-TITLE=1500 Los Gamos Drive:geo:-122.5421821,38.0159872
END:VEVENT
BEGIN:VEVENT
DTSTART;TZID=America/New_York:20260425T103500
DTEND;TZID=America/New_York:20260425T110500
DTSTAMP:20260423T084315
CREATED:20260405T170059Z
LAST-MODIFIED:20260405T170101Z
UID:10376356-1777113300-1777115100@www.ymcasf.org
SUMMARY:Y Stage 5 - Stroke Development - SAT 10:35 - Mar-Apr 2026
DESCRIPTION:
URL:https://www.ymcasf.org/event/y-stage-5-stroke-development-sat-1035-mar-apr-2026/2026-04-25/
LOCATION:Marin YMCA\, 1500 Los Gamos Drive\, San Rafael\, CA\, 94903\, United States
CATEGORIES:Class
GEO:38.0159872;-122.5421821
X-APPLE-STRUCTURED-LOCATION;VALUE=URI;X-ADDRESS=Marin YMCA 1500 Los Gamos Drive San Rafael CA 94903 United States;X-APPLE-RADIUS=500;X-TITLE=1500 Los Gamos Drive:geo:-122.5421821,38.0159872
END:VEVENT
BEGIN:VEVENT
DTSTART;TZID=America/New_York:20260425T104500
DTEND;TZID=America/New_York:20260425T111500
DTSTAMP:20260423T084315
CREATED:20260405T170639Z
LAST-MODIFIED:20260405T170640Z
UID:10377282-1777113900-1777115700@www.ymcasf.org
SUMMARY:Y Stage 4 - Stroke Introduction - SAT 10:45 - Mar-May 2026
DESCRIPTION:
URL:https://www.ymcasf.org/event/y-stage-4-stroke-introduction-sat-1045-mar-may-2026/2026-04-25/
LOCATION:Peninsula Family YMCA\, 1877 South Grant Street\, San Mateo\, CA\, 94402\, United States
CATEGORIES:Class
GEO:37.5530246;-122.3015842
X-APPLE-STRUCTURED-LOCATION;VALUE=URI;X-ADDRESS=Peninsula Family YMCA 1877 South Grant Street San Mateo CA 94402 United States;X-APPLE-RADIUS=500;X-TITLE=1877 South Grant Street:geo:-122.3015842,37.5530246
END:VEVENT
BEGIN:VEVENT
DTSTART;TZID=America/New_York:20260425T104500
DTEND;TZID=America/New_York:20260425T111500
DTSTAMP:20260423T084315
CREATED:20260405T170705Z
LAST-MODIFIED:20260405T170706Z
UID:10377354-1777113900-1777115700@www.ymcasf.org
SUMMARY:P Stage 2 - Water Movement - SAT 10:45 - Mar-May 2026
DESCRIPTION:
URL:https://www.ymcasf.org/event/p-stage-2-water-movement-sat-1045-mar-may-2026/2026-04-25/
LOCATION:Peninsula Family YMCA\, 1877 South Grant Street\, San Mateo\, CA\, 94402\, United States
CATEGORIES:Class
GEO:37.5530246;-122.3015842
X-APPLE-STRUCTURED-LOCATION;VALUE=URI;X-ADDRESS=Peninsula Family YMCA 1877 South Grant Street San Mateo CA 94402 United States;X-APPLE-RADIUS=500;X-TITLE=1877 South Grant Street:geo:-122.3015842,37.5530246
END:VEVENT
BEGIN:VEVENT
DTSTART;TZID=America/New_York:20260425T105000
DTEND;TZID=America/New_York:20260425T112000
DTSTAMP:20260423T084315
CREATED:20260405T170428Z
LAST-MODIFIED:20260405T170428Z
UID:10376838-1777114200-1777116000@www.ymcasf.org
SUMMARY:P Stage 3 - Water Stamina - SAT 10:50 - Mar-Apr 2026
DESCRIPTION:
URL:https://www.ymcasf.org/event/p-stage-3-water-stamina-sat-1050-mar-apr-2026/2026-04-25/
LOCATION:Presidio Community YMCA Letterman Aquatics Center\, 1151 Gorgas Avenue\, San Francisco\, CA\, 94129\, United States
CATEGORIES:Class
GEO:37.8010625;-122.4485374
X-APPLE-STRUCTURED-LOCATION;VALUE=URI;X-ADDRESS=Presidio Community YMCA Letterman Aquatics Center 1151 Gorgas Avenue San Francisco CA 94129 United States;X-APPLE-RADIUS=500;X-TITLE=1151 Gorgas Avenue:geo:-122.4485374,37.8010625
END:VEVENT
END:VCALENDAR