BEGIN:VCALENDAR
VERSION:2.0
PRODID:-//YMCA of Greater San Francisco - ECPv6.6.4.2//NONSGML v1.0//EN
CALSCALE:GREGORIAN
METHOD:PUBLISH
X-WR-CALNAME:YMCA of Greater San Francisco
X-ORIGINAL-URL:https://www.ymcasf.org
X-WR-CALDESC:Events for YMCA of Greater San Francisco
REFRESH-INTERVAL;VALUE=DURATION:PT1H
X-Robots-Tag:noindex
X-PUBLISHED-TTL:PT1H
BEGIN:VTIMEZONE
TZID:America/New_York
BEGIN:DAYLIGHT
TZOFFSETFROM:-0500
TZOFFSETTO:-0400
TZNAME:EDT
DTSTART:20260308T070000
END:DAYLIGHT
BEGIN:STANDARD
TZOFFSETFROM:-0400
TZOFFSETTO:-0500
TZNAME:EST
DTSTART:20261101T060000
END:STANDARD
END:VTIMEZONE
BEGIN:VEVENT
DTSTART;TZID=America/New_York:20260422T160500
DTEND;TZID=America/New_York:20260422T163500
DTSTAMP:20260423T102709
CREATED:20260405T170839Z
LAST-MODIFIED:20260406T071247Z
UID:10377680-1776873900-1776875700@www.ymcasf.org
SUMMARY:P Stage 1 - Water Acclimation - MW 4:05 - Apr 2026
DESCRIPTION:
URL:https://www.ymcasf.org/event/p-stage-1-water-acclimation-mw-405-apr-2026/2026-04-22/
LOCATION:Peninsula Family YMCA\, 1877 South Grant Street\, San Mateo\, CA\, 94402\, United States
CATEGORIES:Class
GEO:37.5530246;-122.3015842
X-APPLE-STRUCTURED-LOCATION;VALUE=URI;X-ADDRESS=Peninsula Family YMCA 1877 South Grant Street San Mateo CA 94402 United States;X-APPLE-RADIUS=500;X-TITLE=1877 South Grant Street:geo:-122.3015842,37.5530246
END:VEVENT
BEGIN:VEVENT
DTSTART;TZID=America/New_York:20260422T160500
DTEND;TZID=America/New_York:20260422T163500
DTSTAMP:20260423T102709
CREATED:20260405T170841Z
LAST-MODIFIED:20260414T072124Z
UID:10377688-1776873900-1776875700@www.ymcasf.org
SUMMARY:P Stage 2 - Water Movement - MW 4:05 - Apr 2026
DESCRIPTION:
URL:https://www.ymcasf.org/event/p-stage-2-water-movement-mw-405-apr-2026/2026-04-22/
LOCATION:Peninsula Family YMCA\, 1877 South Grant Street\, San Mateo\, CA\, 94402\, United States
CATEGORIES:Class
GEO:37.5530246;-122.3015842
X-APPLE-STRUCTURED-LOCATION;VALUE=URI;X-ADDRESS=Peninsula Family YMCA 1877 South Grant Street San Mateo CA 94402 United States;X-APPLE-RADIUS=500;X-TITLE=1877 South Grant Street:geo:-122.3015842,37.5530246
END:VEVENT
BEGIN:VEVENT
DTSTART;TZID=America/New_York:20260422T164000
DTEND;TZID=America/New_York:20260422T171000
DTSTAMP:20260423T102709
CREATED:20260405T170843Z
LAST-MODIFIED:20260414T072128Z
UID:10377696-1776876000-1776877800@www.ymcasf.org
SUMMARY:P Stage 2 - Water Movement - MW 4:40 - Apr 2026
DESCRIPTION:
URL:https://www.ymcasf.org/event/p-stage-2-water-movement-mw-440-apr-2026/2026-04-22/
LOCATION:Peninsula Family YMCA\, 1877 South Grant Street\, San Mateo\, CA\, 94402\, United States
CATEGORIES:Class
GEO:37.5530246;-122.3015842
X-APPLE-STRUCTURED-LOCATION;VALUE=URI;X-ADDRESS=Peninsula Family YMCA 1877 South Grant Street San Mateo CA 94402 United States;X-APPLE-RADIUS=500;X-TITLE=1877 South Grant Street:geo:-122.3015842,37.5530246
END:VEVENT
BEGIN:VEVENT
DTSTART;TZID=America/New_York:20260422T164000
DTEND;TZID=America/New_York:20260422T171000
DTSTAMP:20260423T102709
CREATED:20260405T170940Z
LAST-MODIFIED:20260414T072142Z
UID:10377752-1776876000-1776877800@www.ymcasf.org
SUMMARY:Y Stage 5 - Stroke Development - MW 4:40 - Apr 2026
DESCRIPTION:
URL:https://www.ymcasf.org/event/y-stage-5-stroke-development-mw-440-apr-2026/2026-04-22/
LOCATION:Peninsula Family YMCA\, 1877 South Grant Street\, San Mateo\, CA\, 94402\, United States
CATEGORIES:Class
GEO:37.5530246;-122.3015842
X-APPLE-STRUCTURED-LOCATION;VALUE=URI;X-ADDRESS=Peninsula Family YMCA 1877 South Grant Street San Mateo CA 94402 United States;X-APPLE-RADIUS=500;X-TITLE=1877 South Grant Street:geo:-122.3015842,37.5530246
END:VEVENT
BEGIN:VEVENT
DTSTART;TZID=America/New_York:20260422T171500
DTEND;TZID=America/New_York:20260422T174500
DTSTAMP:20260423T102709
CREATED:20260405T170848Z
LAST-MODIFIED:20260414T072107Z
UID:10377712-1776878100-1776879900@www.ymcasf.org
SUMMARY:P Stage 4 - Stroke Introduction - MW 5:15 - Apr 2026
DESCRIPTION:
URL:https://www.ymcasf.org/event/p-stage-4-stroke-introduction-mw-515-apr-2026/2026-04-22/
LOCATION:Peninsula Family YMCA\, 1877 South Grant Street\, San Mateo\, CA\, 94402\, United States
CATEGORIES:Class
GEO:37.5530246;-122.3015842
X-APPLE-STRUCTURED-LOCATION;VALUE=URI;X-ADDRESS=Peninsula Family YMCA 1877 South Grant Street San Mateo CA 94402 United States;X-APPLE-RADIUS=500;X-TITLE=1877 South Grant Street:geo:-122.3015842,37.5530246
END:VEVENT
BEGIN:VEVENT
DTSTART;TZID=America/New_York:20260422T171500
DTEND;TZID=America/New_York:20260422T174500
DTSTAMP:20260423T102709
CREATED:20260405T170850Z
LAST-MODIFIED:20260414T072115Z
UID:10377720-1776878100-1776879900@www.ymcasf.org
SUMMARY:P Stage 3 - Water Stamina - MW 5:15 - Apr 2026
DESCRIPTION:
URL:https://www.ymcasf.org/event/p-stage-3-water-stamina-mw-515-apr-2026/2026-04-22/
LOCATION:Peninsula Family YMCA\, 1877 South Grant Street\, San Mateo\, CA\, 94402\, United States
CATEGORIES:Class
GEO:37.5530246;-122.3015842
X-APPLE-STRUCTURED-LOCATION;VALUE=URI;X-ADDRESS=Peninsula Family YMCA 1877 South Grant Street San Mateo CA 94402 United States;X-APPLE-RADIUS=500;X-TITLE=1877 South Grant Street:geo:-122.3015842,37.5530246
END:VEVENT
BEGIN:VEVENT
DTSTART;TZID=America/New_York:20260422T171500
DTEND;TZID=America/New_York:20260422T174500
DTSTAMP:20260423T102709
CREATED:20260405T170942Z
LAST-MODIFIED:20260414T072146Z
UID:10377760-1776878100-1776879900@www.ymcasf.org
SUMMARY:Y Stage 5 - Stroke Development - MW 5:15 - Apr 2026
DESCRIPTION:
URL:https://www.ymcasf.org/event/y-stage-5-stroke-development-mw-515-apr-2026/2026-04-22/
LOCATION:Peninsula Family YMCA\, 1877 South Grant Street\, San Mateo\, CA\, 94402\, United States
CATEGORIES:Class
GEO:37.5530246;-122.3015842
X-APPLE-STRUCTURED-LOCATION;VALUE=URI;X-ADDRESS=Peninsula Family YMCA 1877 South Grant Street San Mateo CA 94402 United States;X-APPLE-RADIUS=500;X-TITLE=1877 South Grant Street:geo:-122.3015842,37.5530246
END:VEVENT
BEGIN:VEVENT
DTSTART;TZID=America/New_York:20260422T175000
DTEND;TZID=America/New_York:20260422T182000
DTSTAMP:20260423T102709
CREATED:20260405T170846Z
LAST-MODIFIED:20260414T072132Z
UID:10377704-1776880200-1776882000@www.ymcasf.org
SUMMARY:P Stage 2 - Water Movement - MW 5:50 - Apr 2026
DESCRIPTION:
URL:https://www.ymcasf.org/event/p-stage-2-water-movement-mw-550-apr-2026/2026-04-22/
LOCATION:Peninsula Family YMCA\, 1877 South Grant Street\, San Mateo\, CA\, 94402\, United States
CATEGORIES:Class
GEO:37.5530246;-122.3015842
X-APPLE-STRUCTURED-LOCATION;VALUE=URI;X-ADDRESS=Peninsula Family YMCA 1877 South Grant Street San Mateo CA 94402 United States;X-APPLE-RADIUS=500;X-TITLE=1877 South Grant Street:geo:-122.3015842,37.5530246
END:VEVENT
BEGIN:VEVENT
DTSTART;TZID=America/New_York:20260422T175000
DTEND;TZID=America/New_York:20260422T182000
DTSTAMP:20260423T102709
CREATED:20260405T170854Z
LAST-MODIFIED:20260414T072200Z
UID:10377736-1776880200-1776882000@www.ymcasf.org
SUMMARY:Y Stage 3 - Water Stamina - MW 5:50 - Apr 2026
DESCRIPTION:
URL:https://www.ymcasf.org/event/y-stage-3-water-stamina-mw-550-apr-2026/2026-04-22/
LOCATION:Peninsula Family YMCA\, 1877 South Grant Street\, San Mateo\, CA\, 94402\, United States
CATEGORIES:Class
GEO:37.5530246;-122.3015842
X-APPLE-STRUCTURED-LOCATION;VALUE=URI;X-ADDRESS=Peninsula Family YMCA 1877 South Grant Street San Mateo CA 94402 United States;X-APPLE-RADIUS=500;X-TITLE=1877 South Grant Street:geo:-122.3015842,37.5530246
END:VEVENT
BEGIN:VEVENT
DTSTART;TZID=America/New_York:20260422T175000
DTEND;TZID=America/New_York:20260422T182000
DTSTAMP:20260423T102709
CREATED:20260405T170947Z
LAST-MODIFIED:20260414T072342Z
UID:10377776-1776880200-1776882000@www.ymcasf.org
SUMMARY:Y Stage 6 - Stroke Mechanics - MW 5:50 - Apr 2026
DESCRIPTION:
URL:https://www.ymcasf.org/event/y-stage-6-stroke-mechanics-mw-550-apr-2026/2026-04-22/
LOCATION:Peninsula Family YMCA\, 1877 South Grant Street\, San Mateo\, CA\, 94402\, United States
CATEGORIES:Class
GEO:37.5530246;-122.3015842
X-APPLE-STRUCTURED-LOCATION;VALUE=URI;X-ADDRESS=Peninsula Family YMCA 1877 South Grant Street San Mateo CA 94402 United States;X-APPLE-RADIUS=500;X-TITLE=1877 South Grant Street:geo:-122.3015842,37.5530246
END:VEVENT
BEGIN:VEVENT
DTSTART;TZID=America/New_York:20260422T182500
DTEND;TZID=America/New_York:20260422T185500
DTSTAMP:20260423T102709
CREATED:20260405T170852Z
LAST-MODIFIED:20260414T072337Z
UID:10377728-1776882300-1776884100@www.ymcasf.org
SUMMARY:Y Stage 4 - Stroke Introduction - MW 6:25 - Apr 2026
DESCRIPTION:
URL:https://www.ymcasf.org/event/y-stage-4-stroke-introduction-mw-625-apr-2026/2026-04-22/
LOCATION:Peninsula Family YMCA\, 1877 South Grant Street\, San Mateo\, CA\, 94402\, United States
CATEGORIES:Class
GEO:37.5530246;-122.3015842
X-APPLE-STRUCTURED-LOCATION;VALUE=URI;X-ADDRESS=Peninsula Family YMCA 1877 South Grant Street San Mateo CA 94402 United States;X-APPLE-RADIUS=500;X-TITLE=1877 South Grant Street:geo:-122.3015842,37.5530246
END:VEVENT
BEGIN:VEVENT
DTSTART;TZID=America/New_York:20260422T182500
DTEND;TZID=America/New_York:20260422T185500
DTSTAMP:20260423T102709
CREATED:20260405T170856Z
LAST-MODIFIED:20260414T072206Z
UID:10377744-1776882300-1776884100@www.ymcasf.org
SUMMARY:Y Stage 3 - Water Stamina - MW 6:25 - Apr 2026
DESCRIPTION:
URL:https://www.ymcasf.org/event/y-stage-3-water-stamina-mw-625-apr-2026/2026-04-22/
LOCATION:Peninsula Family YMCA\, 1877 South Grant Street\, San Mateo\, CA\, 94402\, United States
CATEGORIES:Class
GEO:37.5530246;-122.3015842
X-APPLE-STRUCTURED-LOCATION;VALUE=URI;X-ADDRESS=Peninsula Family YMCA 1877 South Grant Street San Mateo CA 94402 United States;X-APPLE-RADIUS=500;X-TITLE=1877 South Grant Street:geo:-122.3015842,37.5530246
END:VEVENT
BEGIN:VEVENT
DTSTART;TZID=America/New_York:20260422T182500
DTEND;TZID=America/New_York:20260422T185500
DTSTAMP:20260423T102709
CREATED:20260405T170944Z
LAST-MODIFIED:20260414T072151Z
UID:10377768-1776882300-1776884100@www.ymcasf.org
SUMMARY:Y Stage 5 - Stroke Development - MW 6:25 - Apr 2026
DESCRIPTION:
URL:https://www.ymcasf.org/event/y-stage-5-stroke-development-mw-625-apr-2026/2026-04-22/
LOCATION:Peninsula Family YMCA\, 1877 South Grant Street\, San Mateo\, CA\, 94402\, United States
CATEGORIES:Class
GEO:37.5530246;-122.3015842
X-APPLE-STRUCTURED-LOCATION;VALUE=URI;X-ADDRESS=Peninsula Family YMCA 1877 South Grant Street San Mateo CA 94402 United States;X-APPLE-RADIUS=500;X-TITLE=1877 South Grant Street:geo:-122.3015842,37.5530246
END:VEVENT
BEGIN:VEVENT
DTSTART;TZID=America/New_York:20260422T182500
DTEND;TZID=America/New_York:20260422T185500
DTSTAMP:20260423T102709
CREATED:20260405T170949Z
LAST-MODIFIED:20260413T165930Z
UID:10377784-1776882300-1776884100@www.ymcasf.org
SUMMARY:Y Stage 1 - Water Acclimation - MW 6:25 - Apr 2026
DESCRIPTION:
URL:https://www.ymcasf.org/event/y-stage-1-water-acclimation-mw-625-apr-2026/2026-04-22/
LOCATION:Peninsula Family YMCA\, 1877 South Grant Street\, San Mateo\, CA\, 94402\, United States
CATEGORIES:Class
GEO:37.5530246;-122.3015842
X-APPLE-STRUCTURED-LOCATION;VALUE=URI;X-ADDRESS=Peninsula Family YMCA 1877 South Grant Street San Mateo CA 94402 United States;X-APPLE-RADIUS=500;X-TITLE=1877 South Grant Street:geo:-122.3015842,37.5530246
END:VEVENT
END:VCALENDAR