BEGIN:VCALENDAR
VERSION:2.0
PRODID:-//YMCA of Greater San Francisco - ECPv6.6.4.2//NONSGML v1.0//EN
CALSCALE:GREGORIAN
METHOD:PUBLISH
X-WR-CALNAME:YMCA of Greater San Francisco
X-ORIGINAL-URL:https://www.ymcasf.org
X-WR-CALDESC:Events for YMCA of Greater San Francisco
REFRESH-INTERVAL;VALUE=DURATION:PT1H
X-Robots-Tag:noindex
X-PUBLISHED-TTL:PT1H
BEGIN:VTIMEZONE
TZID:America/Los_Angeles
BEGIN:DAYLIGHT
TZOFFSETFROM:-0800
TZOFFSETTO:-0700
TZNAME:PDT
DTSTART:20260308T100000
END:DAYLIGHT
BEGIN:STANDARD
TZOFFSETFROM:-0700
TZOFFSETTO:-0800
TZNAME:PST
DTSTART:20261101T090000
END:STANDARD
END:VTIMEZONE
BEGIN:VEVENT
DTSTART;TZID=America/Los_Angeles:20260419T080000
DTEND;TZID=America/Los_Angeles:20260419T080000
DTSTAMP:20260423T043801
CREATED:20250127T171344Z
LAST-MODIFIED:20260422T180158Z
UID:10128700-1776585600-1776585600@www.ymcasf.org
SUMMARY:Presidio Trail Run
DESCRIPTION:View Links\n		\n			\n							\n							\n						\n						\n						\n							Register						\n											\n					\n	\n\n\n\n\n\n\n\n\n\n	\n\nHealthy Kids\, Healthy Families\, Healthy Communities\n\n\n\nJoin us on Sunday\, April 19th for the Presidio Community YMCA Trail Run\, the only family-friendly and competitive trail run in the park! Your participation supports the YMCA’s community programs and supports our work in youth development\, healthy living\, and social responsibility. Your participation helps ensure access to programs and services that empower individuals and families. \n\n\n\n\n\n\n\n	\n		\n\n\n\n\n\n\n\n\n\n\n\n\n	\n\n\n\n\n\n	\n\nRace Pricing\n\n\n\nLast date to register and to have your name printed on your bib is Monday\, March 30th\n\n\n\n\nregister\n\n\n\n\n\n	\n\n\n	\n\n\n	\n\n1.5-mile Family Fun Run\n\n\n\nEarly Bird Pricing (Ends 3/15/26)\n\n\n\n\n$25/adult (18 years of age and older)\n\n\n\n$10/youth and teens ages 17 and under\n\n\n\n\nRegular Pricing\n\n\n\n\n$30/adult (18 years of age and over)\n\n\n\n$15/youth and teens ages 17 and under\n\n\n\n\n\n\n\n\n	\n\n5K\n\n\n\nEarly Bird Pricing (Ends 3/15/26)\n\n\n\n\n$50/adult (18 years of age and over)\n\n\n\n$15/teens (ages 13-17)\n\n\n\n$10/youth (ages 12 and under)\n\n\n\n\nRegular Pricing\n\n\n\n\n$55/adult (18 years of age and over)\n\n\n\n$20/teens (ages 13-17)\n\n\n\n$15/youth (ages 12 and under)\n\n\n\n\n\n\n\n\n	\n\n10K\n\n\n\nEarly Bird Pricing (Ends 3/15/26)\n\n\n\n\n$65/adult (18 years of age and over)\n\n\n\n$15/teens (ages 13-17)\n\n\n\n$10/ youth  (ages 12 and under)\n\n\n\n\nRegular Pricing\n\n\n\n\n$70/adult (18 years of age and over)\n\n\n\n$20/teens (ages 13-17)\n\n\n\n$15/ youth  (ages 12 and under)\n\n\n\n\n\n\n\n\n\n\n\n\n\n\n\n\n\n	\n\n\n\nOFFICIAL COURSE MAPS\n\n\n\n\n\n\n\n\n	\n		\nPresidio Trail Run 1.5mi\n\n\n\n\n\n\n	\n	\n\n\n\n\n	\n		\nPresidio Trail Run 5k\n\n\n\n\n\n\n	\n	\n\n\n\n\n	\n		\nPresidio Trail Run 10k\n\n\n\n\n\n\n	\n	\n\n\n\n\n\n\n\n\n\n	\n\n\n\nImportant Race Information\n\n\n\nFor those of you who do not already have a waiver on file with the Presidio Y please download and complete the waiver. \n\n\n\n\nParents may sign waivers for their registered children.\n\n\n\nAll adults running the race must submit their own signed waiver.\n\n\n\nPrinted copies will also be available during pick-up.\n\n\n\n\n\nwaiver\n\n\n\n\n\n\n\n\n\n	\n		\nRace Day Schedule\n\n\n7:00 a.m.-8:15 a.m.: Day-of packet pickup at Presidio Y (63 Funston Ave\, San Francisco\, CA 94129) Registration closes promptly at 8:15 a.m.\n\n\n\n8:00 a.m.: Runners may start lining up at the starting line. Please note that it is a 1/2 mile walk to the starting line from the Presidio Y. Plan accordingly.\n\n\n\n8:30 a.m.: 1.5 mile Family Fun Run\n\n\n\n8:45 a.m.: 10k\n\n\n\n9:05 a.m.: 5k\n\n\n\nPost-Race celebration to follow in the Presidio Y gym.\n\n\n\n\n\n	\n	\n\n\n\n\n	\n		\nRace Packet & T-Shirt Pickup\n\nT-shirts and bibs may be picked up on race morning at the Presidio YMCA from 7:00 a.m.-8:15 a.m. \n\n\n\nEarly pick-up is available on Friday April 17th\, 4:00-7:00 p.m. or Saturday April 18th\, 9:00-12:00 p.m. in the Main Post lobby. \n\n\n\nYou will receive an email from the race timing company which includes your race number. Please have that race number ready to share at bib pick-up. \n\n\n\nIdentification must be presented at bib/short pick-up. Participants can pick up shirts and bibs for another participant provided they can present a signed waiver and photo id. \n\n\n\n\n	\n	\n\n\n\n\n	\n		\nRefund Policy\n\nIn light of this event being a race benefiting the YMCA of Greater San Francisco’s essential services: OST (Out of School Time) programs to support academic success and promote healthy development\, targeted workforce development strategies to address unemployment and underemployment\, food pantries for those struggling with food insecurity\, and healthy indoor and outdoor programs for all members of our community\, refunds will not be given.For questions about how to participate or support these programs\, please email Sean Dries at sdries@ymcasf.org. \n\n\n\n\n	\n	\n\n\n\n\n	\n		\nParking\n\nThe Presidio offers several parking lots to serve Presidio visitors around the YMCA and the Main Post. We encourage attendees to carpool\, walk\, or bike to the park as well. Visit SF Muni’s website to plan your trip or check out the Presidio Trust’s PresidiGo shuttle schedule. \n\n\n\nParking is regulated in the Presidio seven days a week. The cost ranges between $2.50 to $3 per hour and between $12.50 to $15/day. ACE Parking issues parking violations to vehicles that have not purchased parking or have exceeded time limits.​ This map shows the prices of parking by area. \n\n\n\nFor updated parking information\, click here. \n\n\n\n\n\n\n\n\n	\n	\n\n\n\n\n	\n		\nWinner Categories\n\nMen 10K1st2nd3rdWomen 10k1st2nd3rdNon-Binary 10k1st  Youth 10k (13 & under)Top MaleTop FemaleTop Non-BinaryMen 5k1st2nd3rdWomen 5k1st2nd3rdNon-Binary 5k1st  Youth 5k (13 & under)Top MaleTop FemaleTop Non-BinaryYouth 1.5 mi (13 & under)1st2nd3rd\n\n\n\n\n	\n	\n\n\n\n\n	\n		\nRace Results\n\n2025 Presidio Trail Run results can be found here. \n\n\n\n\n	\n	\n\n\n\n\n\n\n\n\n\n	\n\n\n\nSPONSORSHIP Opportunities\n\n\n\nProceeds benefit the Presidio YMCA’s community programs\, helping to strengthen and support the local community. \n\n\n\n\nSponsor\n\n\n\n\nPresidio YMCA Trail Run Sponsorship Packet\n\n\n\nBenefitting youth and family programs in under-resourced communities across San Francisco\,San Mateo\, and Marin counties. \n\n\n\n\nSPONSORSHIP PACKET\n\n\n\n\n\n\n\n\n\n	\n		\nPresidio Sponsor – $25\,000\n\n\nCompany name included in event name\n\n\n\nEnhanced logo placement alongside YMCA logo on event website\n\n\n\nLogo placement on sleeve of race shirt\n\n\n\nEnhanced logo placement next to YMCA logo and included with event name on printed materials\n\n\n\nCompany name included in subject line of pre-/post-event emails\n\n\n\nEnhanced logo placement on pre-/post-event marketing emails\n\n\n\nIn-branch recognition to Presidio YMCA facility members as “Premiere Event Sponsor”\n\n\n\nRecognition in two (2) pre- and one (1) post-event social media post\n\n\n\nOption to table at the post-race event\n\n\n\nRecognition in one solo social media “Spotlight Post” as key community partner\n\n\n\n12 complimentary race entries\n\n\n\nEight (8) complimentary VIP tickets to the “Y for Youth” Community Festival\n\n\n\n\n\n	\n	\n\n\n\n\n	\n		\nPark Sponsor – $10\,000\n\n\nFirst-tier logo placement at top of first-tier sponsors with link to homepage and recognition as “Premiere Sponsor”\n\n\n\nLogo placement at top of first-tier section on race shirt\n\n\n\nLogo placement at top of first-tier section on printed materials\, pre-/post-event marketing emails\n\n\n\nIn-branch recognition to Presidio YMCA facility members as “Premiere Sponsor”\n\n\n\nRecognition in two (2) pre- and one (1) post-event social media post\n\n\n\nOption to table at the post-race event\n\n\n\nRecognition in one solo social media “Spotlight Post” as community partner\n\n\n\n10 complimentary race entries\n\n\n\nEight (8) complimentary VIP tickets to the “Y for Youth” Community Festival\n\n\n\n\n\n	\n	\n\n\n\n\n	\n		\nForest Sponsor – $7\,500\n\n\nFirst-tier logo placement on website\n\n\n\nFirst-tier logo placement on race shirt\n\n\n\nFirst-tier logo placement on printed materials\, pre-/post-event marketing emails\n\n\n\nIn-branch recognition to Presidio YMCA facility members\n\n\n\nRecognition in two (2) pre- and one (1) post-event social media post\n\n\n\nOption to table at the post-race event\n\n\n\nEight (8) complimentary race entries\n\n\n\nSix (6) complimentary VIP tickets to the “Y for Youth” Community Festival\n\n\n\n\n\n	\n	\n\n\n\n\n	\n		\nGrove Sponsor – $5\,000\n\n\nSecond-tier logo placement on website\n\n\n\nSecond-tier logo placement on race shirt\n\n\n\nSecond-tier logo placement on printed materials\, pre-/post-event marketing emails\n\n\n\nIn-branch recognition to Presidio YMCA facility members\n\n\n\nRecognition in two (2) pre- and one (1) post-event social media post\n\n\n\nOption to table at the post-race event\n\n\n\nSix (6) complimentary race entries\n\n\n\nFour (4) complimentary VIP tickets to the “Y for Youth” Community Festival\n\n\n\n\n\n	\n	\n\n\n\n\n	\n		\nTree Sponsor – $2\,500\n\n\nLogo placement on website (third tier)\n\n\n\nLogo placement on race shirt (third tier)\n\n\n\nThird-tier logo placement on printed materials\, pre-/post-event marketing emails\n\n\n\nRecognition in one pre- and one post-event social media post\n\n\n\nOption to table at the post-race event\n\n\n\nFour (4) complimentary race entries\n\n\n\nTwo (2) complimentary VIP tickets to the “Y for Youth” Community Festival\n\n\n\n\n\n	\n	\n\n\n\n\n	\n		\nRoot Sponsor – $1\,000\n\n\nLogo placement on website (lower tier)\n\n\n\nLogo placement on race shirt (lower tier)\n\n\n\nLower-tier logo placement on printed materials\, pre-/post-event marketing emails\n\n\n\nRecognition in one pre- and one post-event social media post\n\n\n\nOption to table at the post-race event\n\n\n\nTwo (2) complimentary race entries\n\n\n\nTwo (2) complimentary VIP tickets to the “Y for Youth” Community Festival\n\n\n\n\n\n	\n	\n\n\n\n\n	\n		\nBranch Sponsor – $500 & In-Kind\n\n\nName listed on event website (no logo)\n\n\n\nOption to table at post-race event\n\n\n\nOne complimentary race registration\n\n\n\nOne complimentary VIP ticket to the “Y for Youth” Community Festival\n\n\n\n\n\n	\n	\n\n\n\n\n\n\n\n\n\n	\n\n\n\nWHy the y matters\n\n\n\nAt the Y\, strengthening community is our cause. Every day\, we work with our neighbors to make sure that everyone\, regardless of age\, income or background\, has the opportunity to reach their full potential. Now\, more than ever\, our community needs your support. Since March 17\, 2020\, the Y of San Francisco has been on the ground offering critical resources to our community. \n\n\n\n\n\n\n\n\n	\n		\nFood Security\n\nThe Y serves those who struggle with food insecurity by providing more than 7\,000 individuals and families each month with food pantries throughout San Francisco\, San Mateo\, and Marin counties through our partnership with the SF-Marin Food Bank. \n\n\n\n\n	\n	\n\n\n\n\n	\n		\nWorkforce Development\n\nThe Y is embedded in the communities that have been among the hardest hit by unemployment and inequality. We address unemployment and underemployment through targeted workforce development strategies including skills building\, job readiness training\, and job placements. \n\n\n\n\n	\n	\n\n\n\n\n	\n		\nOut of School Time (OST) Programs\n\nThe Y’s before and after school programs support a child’s academic success and promote healthy physical\, emotional\, and social development. \n\n\n\n\n	\n	\n\n\n\n\n	\n		\nConnection to Nature\n\nThe Y of San Francisco believes that time spent outdoors helps us to be our healthiest\, best selves. We continue to provide healthy outdoor opportunities for all members of our communities through: tennis\, outdoor wellness windows\, outdoor personal training\, YRangers camp\, outdoor wellness hikes\, bike rides\, runs\, and group exercise programs. \n\n\n\n\n	\n	\n\n\n\n\n\n\n\n\n\n	\n		\n			\n		\n		\n\n\n\nvolunteer\n\n\n\nWe’re looking for over 100 enthusiastic volunteers to join us for a day full of fun and community spirit at the Presidio Trail Run in San Francisco\, CA. This is a fantastic opportunity for individuals\, groups\, and communities to come together and make a difference. Spread the word to your friends and family – let’s create a memorable experience for everyone involved!  \n\n\n\n\n\n\nvolunteer\n\n\n\n	\n\n\n\n\n\n	\n\nGrove sponsors\n\n\n\n\n	\n\n\n	\n\n\n\n\n\n\n\n\n\n\n\n\n\n\n\ntree sponsors\n\n\n\n\n	\n\n\n	\n\n\n\n\n\n\n\n\n\n	\n\n\n\n\n\n\n\n\n\n\n\nCande Cuvillier\n\n\n\nMike and Lea Ann Fleming\n\n\n\nBob Kaplan andCarolyn Kataoka\n\n\n\n \n\n\n\n\n\n\n\nRoot Sponsors\n\n\n\n\n	\n\n\n	\n\n\n\n\n\n\n\n\n\n	\n\n\n\n\n\n\n\n\n\n	\n\n\n\n\n\n\n\n\n\n\n\nThe Greene FamilyThe Pola Family\n\n\n\n\n\n\n\nbranch Sponsors\n\n\n\nWestWater Research\n\n\n\nThe Pitt Family\n\n\n\n\n\n\n\n\n\n	\n		\n\n							\n					\n						\n							\n																	Upcoming Events\n															\n								\n																	\n							\n						\n					\n				\n					\n\n		\n			\n				\n												\n\n		\n			\n\n				\n											Sat \n													 \n																\n\n				\n\n									\n						Community					 \n				\n					\n						Y For Youth Community Festival					\n\n					\n													\n								\n								Families\, Adults\, Kids\, Teens\, Everyone							\n						\n													\n								\n								Crane Cove Park							\n						\n							\n		\n		May 02 at 12:00pm	\n	\n						\n								\n							\n					\n					Price: Free 									\n						\n		\n						 \n					\n				\n\n			\n\n			\n										\n							\n							Register							\n						\n										\n					Learn More\n				\n			\n\n		\n\n	\n													\n\n		\n			\n\n				\n											Sat \n													 \n																\n\n				\n\n									\n						Fundraising Event					 \n				\n					\n						Y For Youth VIP Reception					\n\n					\n													\n								\n								Above The Rim\, 690 Terry A Francois Blvd\, San Francisco\, CA 94158							\n						\n						\n							\n		\n		May 02 at 05:00pm	\n	\n						\n								\n							\n					\n					Price: $200 									\n						\n		\n						 \n					\n				\n\n			\n\n			\n										\n							\n							Register							\n						\n										\n					Learn More\n				\n			\n\n		\n\n	\n													\n\n		\n			\n\n				\n											Sun \n													 \n																\n\n				\n\n									\n						Fundraising Event					 \n				\n					\n						14th Annual Richmond District YMCA Jog in the Fog – 5K Family Fun Run					\n\n					\n													\n								\n								Mountain Lake Park							\n						\n													\n								\n								Richmond District YMCA							\n						\n							\n		\n		September 20 at 08:00am	\n	\n						\n								\n							\n					\n					Price: $10 – $55 									\n						\n		\n						 \n					\n				\n\n			\n\n			\n										\n							\n							Register							\n						\n										\n					Learn More
URL:https://www.ymcasf.org/event/presidio-trail-run/
LOCATION:Presidio Community YMCA\, 63 Funston Avenue\, San Francisco\, CA\, 94129\, United States
CATEGORIES:Event
ATTACH;FMTTYPE=image/png:https://media.ymcasf.org/wp-content/uploads/2024/12/24133717/Presidio-Trail-Run-Logo.png
GEO:37.7996681;-122.4547216
X-APPLE-STRUCTURED-LOCATION;VALUE=URI;X-ADDRESS=Presidio Community YMCA 63 Funston Avenue San Francisco CA 94129 United States;X-APPLE-RADIUS=500;X-TITLE=63 Funston Avenue:geo:-122.4547216,37.7996681
END:VEVENT
END:VCALENDAR